BEGIN:VCALENDAR
VERSION:2.0
PRODID:-//Mike Bolland One Handed Speaker - ECPv6.15.20//NONSGML v1.0//EN
CALSCALE:GREGORIAN
METHOD:PUBLISH
X-ORIGINAL-URL:https://mikebolland.com
X-WR-CALDESC:Events for Mike Bolland One Handed Speaker
REFRESH-INTERVAL;VALUE=DURATION:PT1H
X-Robots-Tag:noindex
X-PUBLISHED-TTL:PT1H
BEGIN:VTIMEZONE
TZID:America/Phoenix
BEGIN:STANDARD
TZOFFSETFROM:-0700
TZOFFSETTO:-0700
TZNAME:MST
DTSTART:20190101T000000
END:STANDARD
END:VTIMEZONE
BEGIN:VEVENT
DTSTART;TZID=America/Phoenix:20200308T190000
DTEND;TZID=America/Phoenix:20200308T203000
DTSTAMP:20260419T103406
CREATED:20191223T172712Z
LAST-MODIFIED:20200408T023319Z
UID:816-1583694000-1583699400@mikebolland.com
SUMMARY:Mike Bolland's "Comedically Challenged"
DESCRIPTION:Join me on a very special night\, when I will be producing my very first show called “Comedically Challenged”.  This show will feature three comedians that have an interesting perspective on life due to different challenges. \nAll proceeds after expenses from this show will go to Parkinson’s research. Discount Tire will be matching the funds raised from this event. \nMike Bolland\nMike Bolland was born without a right hand. Despite what others might consider a handicap\, Mike has been lucky enough to do some pretty interesting things in his life: Child actor (Danny in “The Trial of Billy Jack”)\, Professional Bowler and an inventor with three patents.  But it was his latest ‘accomplishment’ as a cancer survivor that pushed Mike to try Stand Up comedy.\n\n“The one thing that cancer helps you realize is that tomorrow is a gift” Mike stated. “If you have always wanted to try something…give it a shot”.\n\nMike uses his handicap as a source for his comedy.\n\n“I am very comfortable having one hand\, and have joked about it for as long as I can remember\,” he said.  “I really enjoy bringing that perspective to the stage and getting laughter”. \n\n\n\nChris Cluff\nChris Cluff began chasing her dream of stand up comedy by taking improv classes. After her first performance and getting that first big laugh\, she was hooked.\n\n“I love sharing my stories and trying to BE the person I am talking about\,’‘ she said. “The classes I took helped a lot”. \n\nChris was recently diagnosed with Parkinson’s disease\, but she is not letting that stop her.\n\n“Hell\, I was already older than dirt when I started\, I might as well have tremors holding the mic! I actually feel my very best and happy when I am on stage.  So if you see me shaking\, I’m not just drunk – I have Parkinson’s disease!”\n\n\n\n\nRich Prange\nRich Prange is an Emmy award winning television multimedia journalist and news producer who also is a great comic. He was born with a rare disease called Jackson Weiss Syndrome\, a deformity that affects the face and head. He has survived nearly 20 reconstructive plastic surgeries since early childhood. Rich sees comedy as a storytelling art form much like music.\n\n“People will say they saw a comedian and it’s the same as they saw in a video. That’s because it’s scripted. It’s like a concert. They aren’t just going off the top of their head. It’s a song they wrote.” \n– Rich Prange on comedy performances.
URL:https://mikebolland.com/events/mike-bolland-hosts-comedically-challenged/
LOCATION:Comedy Spot\, 7117 E 3rd Ave\, Scottsdale\, AZ\, 85251\, United States
ATTACH;FMTTYPE=image/jpeg:https://mikebolland.com/wp-content/uploads/2019/12/Comedically_Challenged_Flyer.jpg
ORGANIZER;CN="Mike Bolland":MAILTO:mike@mikebolland.com
END:VEVENT
END:VCALENDAR