BEGIN:VCALENDAR
VERSION:2.0
PRODID:-//Mike Bolland One Handed Speaker - ECPv6.15.20//NONSGML v1.0//EN
CALSCALE:GREGORIAN
METHOD:PUBLISH
X-WR-CALNAME:Mike Bolland One Handed Speaker
X-ORIGINAL-URL:https://mikebolland.com
X-WR-CALDESC:Events for Mike Bolland One Handed Speaker
REFRESH-INTERVAL;VALUE=DURATION:PT1H
X-Robots-Tag:noindex
X-PUBLISHED-TTL:PT1H
BEGIN:VTIMEZONE
TZID:UTC
BEGIN:STANDARD
TZOFFSETFROM:+0000
TZOFFSETTO:+0000
TZNAME:UTC
DTSTART:20210101T000000
END:STANDARD
END:VTIMEZONE
BEGIN:VEVENT
DTSTART;TZID=UTC:20220818T190000
DTEND;TZID=UTC:20220818T210000
DTSTAMP:20260420T095947
CREATED:20220724T201049Z
LAST-MODIFIED:20220816T030244Z
UID:1621-1660849200-1660856400@mikebolland.com
SUMMARY:Mike Bolland at Lost Leaf
DESCRIPTION:
URL:https://mikebolland.com/events/mike-bolland-at-lost-leaf/
LOCATION:Lost Leaf\, 914 N 5th St\,\, Phoenix\, AZ\, 85004\, United States
ATTACH;FMTTYPE=image/jpeg:https://mikebolland.com/wp-content/uploads/2022/07/Lost_Leaf.jpg
ORGANIZER;CN="Mike Bolland":MAILTO:mike@mikebolland.com
END:VEVENT
END:VCALENDAR