BEGIN:VCALENDAR
VERSION:2.0
PRODID:-//Mike Bolland One Handed Speaker - ECPv6.15.20//NONSGML v1.0//EN
CALSCALE:GREGORIAN
METHOD:PUBLISH
X-WR-CALNAME:Mike Bolland One Handed Speaker
X-ORIGINAL-URL:https://mikebolland.com
X-WR-CALDESC:Events for Mike Bolland One Handed Speaker
REFRESH-INTERVAL;VALUE=DURATION:PT1H
X-Robots-Tag:noindex
X-PUBLISHED-TTL:PT1H
BEGIN:VTIMEZONE
TZID:America/Phoenix
BEGIN:STANDARD
TZOFFSETFROM:-0700
TZOFFSETTO:-0700
TZNAME:MST
DTSTART:20220101T000000
END:STANDARD
END:VTIMEZONE
BEGIN:VEVENT
DTSTART;TZID=America/Phoenix:20250627T130000
DTEND;TZID=America/Phoenix:20250627T143000
DTSTAMP:20260420T052438
CREATED:20241119T183749Z
LAST-MODIFIED:20250614T185333Z
UID:2333-1751029200-1751034600@mikebolland.com
SUMMARY:Speaker - New Horizons Disability Empowerment Center
DESCRIPTION:Mike Bolland will be speaking at New Horizons\, which began its disability problem solving in 1992 when founded by a handful of volunteers in the Prescott area.
URL:https://mikebolland.com/events/moving-forward-limb-loss-support-group-3/
LOCATION:Corporate Offices
CATEGORIES:Speaking
ATTACH;FMTTYPE=image/jpeg:https://mikebolland.com/wp-content/uploads/2024/11/nhdec-slider-pic-1.jpg
ORGANIZER;CN="Mike Bolland":MAILTO:mike@mikebolland.com
END:VEVENT
BEGIN:VEVENT
DTSTART;VALUE=DATE:20250425
DTEND;VALUE=DATE:20250427
DTSTAMP:20260420T052438
CREATED:20241212T201747Z
LAST-MODIFIED:20250111T201732Z
UID:2342-1745539200-1745711999@mikebolland.com
SUMMARY:Moderator | The Limb Preservation Foundation Symposium
DESCRIPTION:Mike Bolland will be the moderator for The Limb Preservation Foundation Hope Beyond Limits Symposium on April 25\, 2025 at the Denver West Marriott Blvd\, Golden\, CO\, 80401
URL:https://mikebolland.com/events/moderator-the-limb-preservation-foundation-symposium/
LOCATION:Denver West Marriott Blvd\, Golden\, CO\, 80401\, West Marriott Blvd\,\, Golden\, CO\, 80401\, United States
CATEGORIES:Speaking
ATTACH;FMTTYPE=image/jpeg:https://mikebolland.com/wp-content/uploads/2024/12/OIpm3Aa5_400x400.jpeg
ORGANIZER;CN="Mike Bolland":MAILTO:mike@mikebolland.com
END:VEVENT
BEGIN:VEVENT
DTSTART;TZID=America/Phoenix:20241123T150000
DTEND;TZID=America/Phoenix:20241123T163000
DTSTAMP:20260420T052438
CREATED:20241119T183227Z
LAST-MODIFIED:20241119T183919Z
UID:2331-1732374000-1732379400@mikebolland.com
SUMMARY:Speaker - MOVING FORWARD Limb Loss Support Group
DESCRIPTION:Mike Bolland will be speaking to others in the limb loss community at the MOVING FORWARD Limb Loss Support Group
URL:https://mikebolland.com/events/moving-forward-limb-loss-support-group-2/
LOCATION:Online
CATEGORIES:Speaking
ATTACH;FMTTYPE=image/jpeg:https://mikebolland.com/wp-content/uploads/2024/10/432767440_10225796562526103_8260416472872770935_n.jpg
ORGANIZER;CN="Mike Bolland":MAILTO:mike@mikebolland.com
END:VEVENT
BEGIN:VEVENT
DTSTART;TZID=America/Phoenix:20241021T150000
DTEND;TZID=America/Phoenix:20241021T163000
DTSTAMP:20260420T052438
CREATED:20241018T031608Z
LAST-MODIFIED:20241018T031608Z
UID:2303-1729522800-1729528200@mikebolland.com
SUMMARY:MOVING FORWARD Limb Loss Support Group
DESCRIPTION:Mike Bolland will be speaking to others in the limb loss community at the MOVING FORWARD Limb Loss Support Group
URL:https://mikebolland.com/events/moving-forward-limb-loss-support-group/
LOCATION:Online
CATEGORIES:Speaking
ATTACH;FMTTYPE=image/jpeg:https://mikebolland.com/wp-content/uploads/2024/10/432767440_10225796562526103_8260416472872770935_n.jpg
ORGANIZER;CN="Mike Bolland":MAILTO:mike@mikebolland.com
END:VEVENT
BEGIN:VEVENT
DTSTART;TZID=America/Phoenix:20241019T200000
DTEND;TZID=America/Phoenix:20241019T210000
DTSTAMP:20260420T052438
CREATED:20241018T031055Z
LAST-MODIFIED:20241018T031055Z
UID:2300-1729368000-1729371600@mikebolland.com
SUMMARY:Private Event
DESCRIPTION:One handed Keynote Speaker Mike Bolland will be performing for a corporate office. He’s available for your event as well – contact him now!
URL:https://mikebolland.com/events/private-event/
LOCATION:Corporate Offices
CATEGORIES:Comedy,Speaking
ATTACH;FMTTYPE=image/jpeg:https://mikebolland.com/wp-content/uploads/2024/10/MoveOverAZ-1920x500-1.jpg
ORGANIZER;CN="Mike Bolland":MAILTO:mike@mikebolland.com
END:VEVENT
BEGIN:VEVENT
DTSTART;TZID=America/Phoenix:20240511T180000
DTEND;TZID=America/Phoenix:20240511T200000
DTSTAMP:20260420T052438
CREATED:20240307T022534Z
LAST-MODIFIED:20240328T225429Z
UID:2059-1715450400-1715457600@mikebolland.com
SUMMARY:Mike Bolland's I'm Not Stumped Show
DESCRIPTION:“I’m Not Stumped\,” is a one-man show by a one-handed person – Mike Bolland! This groundbreaking production offers an intimate look into Mike’s extraordinary life\, highlighting his resilience and triumphs from birth to the present. Despite being born without a right hand\, Mike defies the odds\, embodying perseverance and courage. His story resonates across generations\, inspiring everyone to embrace their uniqueness and pursue their dreams passionately.
URL:https://mikebolland.com/events/mike-bollands-im-not-stumped-show-2/
LOCATION:Herberger Theater\, 222 East Monroe Street\, Phoenix\, 85004\, United States
CATEGORIES:Comedy,Speaking
ATTACH;FMTTYPE=image/jpeg:https://mikebolland.com/wp-content/uploads/2024/03/Im_Not_Stumped_Flyer_May_11.jpg
ORGANIZER;CN="Mike Bolland":MAILTO:mike@mikebolland.com
END:VEVENT
BEGIN:VEVENT
DTSTART;TZID=America/Phoenix:20240422T184500
DTEND;TZID=America/Phoenix:20240422T184500
DTSTAMP:20260420T052438
CREATED:20240422T162206Z
LAST-MODIFIED:20240422T162243Z
UID:2127-1713811500-1713811500@mikebolland.com
SUMMARY:Mike Bolland on AM1060 Monday Night Golf and Lifestyle Show
DESCRIPTION:Every Monday night from 6 p.m. – 7 p.m. Ray Adams delves into the world of golf by recapping the weekend’s PGA\,  LPGA\, and Champions Tour action. Ray integrates the knowledge of PGA professionals Peter Longo and Pomp Braswell for their insight into the minds of the professional golfers as well as the nuances of golf course playability\, design\, and mental fortitude. Ray takes Monday Night Golf and Lifestyle one step further by incorporating the aspect of fun travel destinations and the best food to satisfy your taste buds. To participate in the show or come aboard as a sponsor\, contact Ray via email at golfadams@msn.com. Join Ray Adams every Monday night from 6 p.m. to 7 p.m. right here on KDUS AM 1060.
URL:https://mikebolland.com/events/mike-bolland-on-am1060-monday-night-golf-and-lifestyle-show/
LOCATION:Corporate Offices
CATEGORIES:Comedy,Speaking
ATTACH;FMTTYPE=image/jpeg:https://mikebolland.com/wp-content/uploads/2024/04/cropped-KDUS-AM-1060-Primary-WITHOUT-LG-scaled-1.jpg
ORGANIZER;CN="Mike Bolland":MAILTO:mike@mikebolland.com
END:VEVENT
BEGIN:VEVENT
DTSTART;TZID=America/Phoenix:20230930T180000
DTEND;TZID=America/Phoenix:20230930T200000
DTSTAMP:20260420T052438
CREATED:20230924T010001Z
LAST-MODIFIED:20230924T010001Z
UID:1990-1696096800-1696104000@mikebolland.com
SUMMARY:Mike Bolland Speaking at AZDS Ability Ball
DESCRIPTION:One handed Keynote Speaker Mike Bolland will be speaking at the Arizona Disabled Sports Ability Ball. He’s available for your event as well – contact him now!
URL:https://mikebolland.com/events/mike-bolland-speaking-at-azds-ability-ball/
LOCATION:Corporate Offices
CATEGORIES:Speaking
ATTACH;FMTTYPE=image/jpeg:https://mikebolland.com/wp-content/uploads/2023/09/AZDS_Mike_Bolland_One_Handed_Speaker.jpg
ORGANIZER;CN="Mike Bolland":MAILTO:mike@mikebolland.com
END:VEVENT
BEGIN:VEVENT
DTSTART;VALUE=DATE:20230614
DTEND;VALUE=DATE:20230615
DTSTAMP:20260420T052438
CREATED:20230514T001235Z
LAST-MODIFIED:20230514T001235Z
UID:1924-1686700800-1686787199@mikebolland.com
SUMMARY:Mike Bolland Speaking at Scottsdale Christian Academy
DESCRIPTION:
URL:https://mikebolland.com/events/mike-bolland-speaking-at-scottsdale-christian-academy/
LOCATION:Scottsdale Christian Academy\, 14400 N. Tatum Blvd\, Phoenix\, AZ\, 85032\, United States
CATEGORIES:Speaking
ATTACH;FMTTYPE=image/png:https://mikebolland.com/wp-content/uploads/2023/05/SCC.png
END:VEVENT
END:VCALENDAR