BEGIN:VCALENDAR
VERSION:2.0
PRODID:-//Mike Bolland One Handed Speaker - ECPv6.15.20//NONSGML v1.0//EN
CALSCALE:GREGORIAN
METHOD:PUBLISH
X-ORIGINAL-URL:https://mikebolland.com
X-WR-CALDESC:Events for Mike Bolland One Handed Speaker
REFRESH-INTERVAL;VALUE=DURATION:PT1H
X-Robots-Tag:noindex
X-PUBLISHED-TTL:PT1H
BEGIN:VTIMEZONE
TZID:America/Phoenix
BEGIN:STANDARD
TZOFFSETFROM:-0700
TZOFFSETTO:-0700
TZNAME:MST
DTSTART:20180101T000000
END:STANDARD
END:VTIMEZONE
BEGIN:VEVENT
DTSTART;TZID=America/Phoenix:20191110T190000
DTEND;TZID=America/Phoenix:20191110T210000
DTSTAMP:20260419T184213
CREATED:20191004T193049Z
LAST-MODIFIED:20191004T193406Z
UID:744-1573412400-1573419600@mikebolland.com
SUMMARY:Mike Bolland at DJ Samar's "Exposed" Comedy Night
DESCRIPTION:
URL:https://mikebolland.com/events/mike-bolland-at-dj-samars-exposed-comedy-night/
LOCATION:Comedy Spot\, 7117 E 3rd Ave\, Scottsdale\, AZ\, 85251\, United States
ATTACH;FMTTYPE=image/jpeg:https://mikebolland.com/wp-content/uploads/2019/10/20191004_123207.jpg
ORGANIZER;CN="Mike Bolland":MAILTO:mike@mikebolland.com
END:VEVENT
END:VCALENDAR