BEGIN:VCALENDAR
VERSION:2.0
PRODID:-//Mike Bolland One Handed Speaker - ECPv6.15.20//NONSGML v1.0//EN
CALSCALE:GREGORIAN
METHOD:PUBLISH
X-ORIGINAL-URL:https://mikebolland.com
X-WR-CALDESC:Events for Mike Bolland One Handed Speaker
REFRESH-INTERVAL;VALUE=DURATION:PT1H
X-Robots-Tag:noindex
X-PUBLISHED-TTL:PT1H
BEGIN:VTIMEZONE
TZID:America/Phoenix
BEGIN:STANDARD
TZOFFSETFROM:-0700
TZOFFSETTO:-0700
TZNAME:MST
DTSTART:20180101T000000
END:STANDARD
END:VTIMEZONE
BEGIN:VEVENT
DTSTART;TZID=America/Phoenix:20190825T190000
DTEND;TZID=America/Phoenix:20190825T210000
DTSTAMP:20260419T232521
CREATED:20190717T224958Z
LAST-MODIFIED:20190717T224958Z
UID:684-1566759600-1566766800@mikebolland.com
SUMMARY:Open Mic - Mike Bolland
DESCRIPTION:
URL:https://mikebolland.com/events/open-mic-mike-bolland/
LOCATION:Comedy Spot\, 7117 E 3rd Ave\, Scottsdale\, AZ\, 85251\, United States
ATTACH;FMTTYPE=image/jpeg:https://mikebolland.com/wp-content/uploads/2019/05/FriendsFans2.jpg
ORGANIZER;CN="Mike Bolland":MAILTO:mike@mikebolland.com
END:VEVENT
END:VCALENDAR