BEGIN:VCALENDAR
VERSION:2.0
PRODID:-//Mike Bolland One Handed Speaker - ECPv6.15.20//NONSGML v1.0//EN
CALSCALE:GREGORIAN
METHOD:PUBLISH
X-WR-CALNAME:Mike Bolland One Handed Speaker
X-ORIGINAL-URL:https://mikebolland.com
X-WR-CALDESC:Events for Mike Bolland One Handed Speaker
REFRESH-INTERVAL;VALUE=DURATION:PT1H
X-Robots-Tag:noindex
X-PUBLISHED-TTL:PT1H
BEGIN:VTIMEZONE
TZID:America/Phoenix
BEGIN:STANDARD
TZOFFSETFROM:-0700
TZOFFSETTO:-0700
TZNAME:MST
DTSTART:20180101T000000
END:STANDARD
END:VTIMEZONE
BEGIN:VEVENT
DTSTART;TZID=America/Phoenix:20190728T200000
DTEND;TZID=America/Phoenix:20190728T220000
DTSTAMP:20260419T232155
CREATED:20190726T171323Z
LAST-MODIFIED:20190726T175416Z
UID:698-1564344000-1564351200@mikebolland.com
SUMMARY:Mike Bolland - Life is Grand Comedy
DESCRIPTION:I will be featuring with two extremely talented people: April Walterscheid and Steven Franklin.
URL:https://mikebolland.com/events/698/
LOCATION:The Grand\, 718 North Central Ave\, Phoenix\, AZ\, 85004\, United States
ATTACH;FMTTYPE=image/jpeg:https://mikebolland.com/wp-content/uploads/2019/07/GrandComedy-1.jpg
ORGANIZER;CN="Mike Bolland":MAILTO:mike@mikebolland.com
END:VEVENT
END:VCALENDAR